BEGIN:VCALENDAR
VERSION:2.0
PRODID:-//ÖVG - ECPv6.15.18//NONSGML v1.0//EN
CALSCALE:GREGORIAN
METHOD:PUBLISH
X-WR-CALNAME:ÖVG
X-ORIGINAL-URL:https://www.oevg.at
X-WR-CALDESC:Veranstaltungen für ÖVG
REFRESH-INTERVAL;VALUE=DURATION:PT1H
X-Robots-Tag:noindex
X-PUBLISHED-TTL:PT1H
BEGIN:VTIMEZONE
TZID:Europe/Berlin
BEGIN:DAYLIGHT
TZOFFSETFROM:+0100
TZOFFSETTO:+0200
TZNAME:CEST
DTSTART:20240331T010000
END:DAYLIGHT
BEGIN:STANDARD
TZOFFSETFROM:+0200
TZOFFSETTO:+0100
TZNAME:CET
DTSTART:20241027T010000
END:STANDARD
BEGIN:DAYLIGHT
TZOFFSETFROM:+0100
TZOFFSETTO:+0200
TZNAME:CEST
DTSTART:20250330T010000
END:DAYLIGHT
BEGIN:STANDARD
TZOFFSETFROM:+0200
TZOFFSETTO:+0100
TZNAME:CET
DTSTART:20251026T010000
END:STANDARD
BEGIN:DAYLIGHT
TZOFFSETFROM:+0100
TZOFFSETTO:+0200
TZNAME:CEST
DTSTART:20260329T010000
END:DAYLIGHT
BEGIN:STANDARD
TZOFFSETFROM:+0200
TZOFFSETTO:+0100
TZNAME:CET
DTSTART:20261025T010000
END:STANDARD
END:VTIMEZONE
BEGIN:VEVENT
DTSTART;TZID=Europe/Berlin:20250320T180000
DTEND;TZID=Europe/Berlin:20250320T210000
DTSTAMP:20260423T221330
CREATED:20250219T143859Z
LAST-MODIFIED:20250220T154542Z
UID:10000036-1742493600-1742504400@www.oevg.at
SUMMARY:Stammtisch+ 1 mit Andreas Matthä
DESCRIPTION:Stammtisch+1 mit ÖBB-CEO Andreas Matthä – Zukunft der Mobilität hautnah erleben!\nDie Junge ÖVG lädt zum exklusiven Stammtisch+1 mit Andreas Matthä\, CEO der ÖBB und Präsident der Österreichischen Verkehrswissenschaftlichen Gesellschaft (ÖVG).\nTauche ein in spannende Gespräche über die Zukunft des Verkehrs\, die Herausforderungen der Bahnbranche und persönliche Einblicke. In entspannter Atmosphäre hast du die Möglichkeit\, direkt mit einem der wichtigsten Entscheidungsträger im österreichischen Verkehrssektor zu diskutieren. \n\n\n\n17:30\nEintreffen\n\n\n18:00\nStammtisch mit Andreas Matthä\n\n\n20:00\nAusklang\n\n\n\n  \nDie Teilnehmer:innenanzahl ist auf 20 Personen begrenzt. Falls du schon ein kostenfreies Ticket gebucht hast und nicht teilnehmen kannst\, bitten wir dich\, es schnellstmöglich zu stornieren um anderen die Möglichkeit zu geben\, dabei zu sein. \n  \nÜbrigens: Die Mitgliedschaft bei der Jungen ÖVG ist kostenfrei. Du brauchst dich lediglich für den Newsletter-Verteiler der Jungen ÖVG anzumelden. Mitglied kann jede:r sein bis zur Vollendung des 39. Lebensjahres. \n  \nDies ist eine Veranstaltung der
URL:https://www.oevg.at/veranstaltung/stammtisch-1-mit-andreas-matthae/
LOCATION:ÖBB Unternehmenszentrale\, Skylobby\, Am Hauptbahnhof 2\, Wien\, 1100\, Austria
CATEGORIES:Junge ÖVG
ATTACH;FMTTYPE=image/jpeg:https://www.oevg.at/wp-content/uploads/2025/02/Andreas-Matthae5_c-OeBB_Marek-Knopp.jpg
END:VEVENT
END:VCALENDAR