BEGIN:VCALENDAR
VERSION:2.0
PRODID:-//ÖVG - ECPv6.15.18//NONSGML v1.0//EN
CALSCALE:GREGORIAN
METHOD:PUBLISH
X-ORIGINAL-URL:https://www.oevg.at
X-WR-CALDESC:Veranstaltungen für ÖVG
REFRESH-INTERVAL;VALUE=DURATION:PT1H
X-Robots-Tag:noindex
X-PUBLISHED-TTL:PT1H
BEGIN:VTIMEZONE
TZID:Europe/Berlin
BEGIN:DAYLIGHT
TZOFFSETFROM:+0100
TZOFFSETTO:+0200
TZNAME:CEST
DTSTART:20240331T010000
END:DAYLIGHT
BEGIN:STANDARD
TZOFFSETFROM:+0200
TZOFFSETTO:+0100
TZNAME:CET
DTSTART:20241027T010000
END:STANDARD
BEGIN:DAYLIGHT
TZOFFSETFROM:+0100
TZOFFSETTO:+0200
TZNAME:CEST
DTSTART:20250330T010000
END:DAYLIGHT
BEGIN:STANDARD
TZOFFSETFROM:+0200
TZOFFSETTO:+0100
TZNAME:CET
DTSTART:20251026T010000
END:STANDARD
BEGIN:DAYLIGHT
TZOFFSETFROM:+0100
TZOFFSETTO:+0200
TZNAME:CEST
DTSTART:20260329T010000
END:DAYLIGHT
BEGIN:STANDARD
TZOFFSETFROM:+0200
TZOFFSETTO:+0100
TZNAME:CET
DTSTART:20261025T010000
END:STANDARD
END:VTIMEZONE
BEGIN:VEVENT
DTSTART;TZID=Europe/Berlin:20250326T090000
DTEND;TZID=Europe/Berlin:20250328T130000
DTSTAMP:20260424T004309
CREATED:20250310T180905Z
LAST-MODIFIED:20250310T181143Z
UID:10000041-1742979600-1743166800@www.oevg.at
SUMMARY:Smart Rail Enquete 2025
DESCRIPTION:Gern empfehlen wir Ihnen die Veranstaltung unseres Mitglieds CANCOM: \n  \nVom 26. bis 28. März 2025 findet in Wien die nächste Ausgabe der Smart Rail Enquete statt – ein Highlight für alle\, die die Zukunft der Bahn gestalten möchten. Die Veranstaltung bringt führende Expert:innen\, Praktiker:innen und Entscheidungsträger:innen aus den Bereichen Eisenbahninfrastruktur\, Informations- und Kommunikationstechnologie (IKT)\, Security sowie Organisation und Prozesse zusammen. \n  \nDas erwartet Sie: \n  \n\nFachvorträge zu Themen wie KI\, Bahnstrom und Positionierungssysteme\nSchwerpunkttag Security mit Einblicken in aktuelle Bedrohungsszenarien\, IT- und OT-Sicherheit sowie Standardisierung\nPaneldiskussion zu Gamechanger-Technologien für eine leistungsfähige Schiene u.a. mit Dipl. Ing. Hans-Peter Lang (CTO. i.R.\, DB AG)\nNetworking bei Abendveranstaltungen und spannenden Besichtigungen\n\n  \nDie Veranstaltung verbindet Technologie und Mensch – eine perfekte Plattform für den Wissensaustausch und die Vernetzung in der Bahnbranche. \n  \nHier finden Sie das vollständige Programm. \n  \nAls ÖVG-Mitglied können Sie kostenlos online teilnehmen. Ihre Anmeldung können Sie hier vornehmen. \n 
URL:https://www.oevg.at/veranstaltung/smart-rail-enquete-2025/
LOCATION:Austria Trend Hotel Bosei\, Gutheil-Schoder-Gasse 7b\, Wien\, 1100
CATEGORIES:Empfehlungen
ATTACH;FMTTYPE=image/webp:https://www.oevg.at/wp-content/uploads/2025/03/K-Cancom_Logo_newsletter-header-1991x648-1394x648-1393x648-1.webp
END:VEVENT
END:VCALENDAR